BEGIN:VCALENDAR
VERSION:2.0
PRODID:-//Le Salon Bugrane - ECPv4.9.5//NONSGML v1.0//EN
CALSCALE:GREGORIAN
METHOD:PUBLISH
X-WR-CALNAME:Le Salon Bugrane
X-ORIGINAL-URL:https://lesalonbugrane.be
X-WR-CALDESC:Évènements pour Le Salon Bugrane
BEGIN:VTIMEZONE
TZID:"Europe/Paris"
BEGIN:DAYLIGHT
TZOFFSETFROM:+0100
TZOFFSETTO:+0200
TZNAME:CEST
DTSTART:20250330T010000
END:DAYLIGHT
BEGIN:STANDARD
TZOFFSETFROM:+0200
TZOFFSETTO:+0100
TZNAME:CET
DTSTART:20251026T010000
END:STANDARD
END:VTIMEZONE
BEGIN:VEVENT
DTSTART;TZID="Europe/Paris":20250622T160000
DTEND;TZID="Europe/Paris":20250622T171500
DTSTAMP:20260424T141522
CREATED:20250604T102844Z
LAST-MODIFIED:20250615T101727Z
UID:4700-1750608000-1750612500@lesalonbugrane.be
SUMMARY:(Concert canceled) Trio Spilliaert – Violin\, Cello\, Piano - Franck - Ravel
DESCRIPTION: \nYou have already heard the superb ensemble\, the Trio Spilliaert\, and were very enthusiastic about their return with a new repertoire! \nThat moment will come on Sunday\, June 22\, at 4 PM at Salon Bugrane. \nThis time\, the Trio Spilliaert presents two masterful works: \n\nThe First Trio for Violin\, Cello\, and Piano\, also known as the Concertant Trio in F-sharp minor\, by César Franck (published in 1843).\nThe Trio for Violin\, Cello\, and Piano by Maurice Ravel (written in 1914).\n\nEach of these works is innovative in its own way: \nAt just 18 years old\, César Franck employed\, for the first time\, the cyclic form—where the same themes recur throughout the three movements—a technique that would become his signature. This highly virtuosic Trio\, particularly for the piano\, was dedicated to the King of the Belgians\, Leopold I. \nMaurice Ravel structured his Trio in four movements\, following a classical tradition\, yet introducing his own rhythmic and harmonic innovations. His influences range from Basque traditions\, Asia\, French precision\, and the harmonies of his time. It is truly a major work of the 20th century. \nFor more information\, visit: Trio Spilliaert. \n
URL:https://lesalonbugrane.be/event/trio-spilliaert-violin-cello-piano-franck-ravel/
LOCATION:Salon Bugrane\, Avenue de la Bugrane\,108\, 1020 - Brussel\, Brussel\, 1020\, Belgique
ORGANIZER;CN="Le%20Salon%20Bugrane":MAILTO:brayerandreeclaude@gmail.com
END:VEVENT
END:VCALENDAR