BEGIN:VCALENDAR
VERSION:2.0
PRODID:-//Le Salon Bugrane - ECPv4.9.5//NONSGML v1.0//EN
CALSCALE:GREGORIAN
METHOD:PUBLISH
X-WR-CALNAME:Le Salon Bugrane
X-ORIGINAL-URL:https://lesalonbugrane.be
X-WR-CALDESC:Évènements pour Le Salon Bugrane
BEGIN:VTIMEZONE
TZID:"Europe/Paris"
BEGIN:DAYLIGHT
TZOFFSETFROM:+0100
TZOFFSETTO:+0200
TZNAME:CEST
DTSTART:20180325T010000
END:DAYLIGHT
BEGIN:STANDARD
TZOFFSETFROM:+0200
TZOFFSETTO:+0100
TZNAME:CET
DTSTART:20181028T010000
END:STANDARD
END:VTIMEZONE
BEGIN:VEVENT
DTSTART;TZID="Europe/Paris":20181215T160000
DTEND;TZID="Europe/Paris":20181215T173000
DTSTAMP:20260422T102829
CREATED:20181125T182920Z
LAST-MODIFIED:20181216T214250Z
UID:563-1544889600-1544895000@lesalonbugrane.be
SUMMARY:Stemmen doorheen het gebladerte. Hommage aan Claude Debussy
DESCRIPTION:EN – DE – NL –  FR\nDe non-profitvereniging ‘Le Salon Bugrane’ bestaat binnenkort 2 jaar en heeft in die periode al zo’n 14 concerten georganiseerd.\nVoor deze verjaardag wilde de stad het evenement steunen door haar prachtige Gotische Zaal ter beschikking te stellen.\n  \nJe kunt de concertflyer 'Hommage aan Claude Debussy' hier downloaden.\n  \nTer ere van Claude Debussy (gestorven in 1918) brengt dit project een schilder\, een dichter en pianisten van verschillende generaties samen om ons de verschillende kleuren van zijn pianowerk te laten aanvoelen en bewonderen.\nAlles begon bij de dichtbundel van François Migeot “ Stemmen doorheen het gebladerte\,luisterend naar Claude Debussy”\, geïllustreerd met een reeks aquarellen van Bern Wery. \n  \n \n  \nDit boek werd gepubliceerd in maart 2018\, ter gelegenheid van het eeuwfeest van de dood van Claude Debussy.\n  \nOm de weelderige diversiteit van Debussy’s pianowerk kleur te geven werd beroep gedaan op 6 vertolkers uit verschillende generaties: \nFrédéric Anspach\, Pierre Thomas\, Andree-claude Brayer (stichtende leden van de vereniging “Salon Bugrane”)\, Louise et Léna Kollmeier\, Thomas Waelbroeck. \n  \nDe recitanten\, François Migeot  en Judith Alvarado-Migeot\, zullen met hun bindteksten het verband leggen tussen de uitgekozen pianostukken en de geprojecteerde  aquarellen van Bern Wery. \nMet onze oprechte dank aan de stad Brussel voor de uitzonderlijke logistieke steun en hulp bij ons project. \n\n\nNog even dit:\n\n\nIn tegenstelling tot de ‘Salon-traditie’ vindt het concert uitzonderlijk plaats op zaterdag en niet op zondag\,\nen dit in de Gotische Zaal van het Stadhuis van Brussel en niet in het vertrouwde ‘Bugrane Salon’ – wel om 16u.\n\n\nGotische zaal van het stadhuis van Brussel Grote Markt Brussel\, 1000 België + Google Map \n  \nReserveren verplicht\, 10 euro – 5 euro (jongeren tarief) \n Storten op BE67 3631 6615 6087\, met communicatie\n« Debussy Concert »\, uw naam en het aantal plaatsen. \nBevestig per e-mail op brayerandreeclaude@gmail.com \n  \n  \n  \n
URL:https://lesalonbugrane.be/event/stemmen-doorheen-het-gebladerte-hommage-aan-claude-debussy/
LOCATION:Salle Gothique de l’Hôtel de ville de Bruxelles\, Grand'Place\, Bruxelles\, 1000\, Belgique
CATEGORIES:Concert
ORGANIZER;CN="Le%20Salon%20Bugrane":MAILTO:brayerandreeclaude@gmail.com
END:VEVENT
END:VCALENDAR