BEGIN:VCALENDAR
VERSION:2.0
PRODID:-//Le Salon Bugrane - ECPv4.9.5//NONSGML v1.0//EN
CALSCALE:GREGORIAN
METHOD:PUBLISH
X-WR-CALNAME:Le Salon Bugrane
X-ORIGINAL-URL:https://lesalonbugrane.be
X-WR-CALDESC:Évènements pour Le Salon Bugrane
BEGIN:VTIMEZONE
TZID:"Europe/Paris"
BEGIN:DAYLIGHT
TZOFFSETFROM:+0100
TZOFFSETTO:+0200
TZNAME:CEST
DTSTART:20180325T010000
END:DAYLIGHT
BEGIN:STANDARD
TZOFFSETFROM:+0200
TZOFFSETTO:+0100
TZNAME:CET
DTSTART:20181028T010000
END:STANDARD
END:VTIMEZONE
BEGIN:VEVENT
DTSTART;TZID="Europe/Paris":20180325T160000
DTEND;TZID="Europe/Paris":20180325T180000
DTSTAMP:20260420T052556
CREATED:20180104T152226Z
LAST-MODIFIED:20181204T104832Z
UID:265-1521993600-1522000800@lesalonbugrane.be
SUMMARY:Quatuor vocal et piano à 2\, 4 et 6 mains
DESCRIPTION:\nhttp://lesalonbugrane.be/wp-content/uploads/2018/01/Auderghem_Roger-Boutry_Pluie-dété.mp3\nLe projet-phare pour cette saison est de fusionner le grand piano symphonique avec un quatuor vocal. Le premier cahier des Liebeslieder op 52 de Johannes BRAHMS est incontournable en ce domaine. \nJean-François Rouchon\, spécialiste de la mélodie française\, a orienté ses recherches vers Jules MASSENET  et vous permettra de découvrir trois de ses merveilleuses mélodies. \nRoger BOUTRY a accepté de mettre en musique  pour la circonstance « Pluie d’été »\, du poète symboliste belge  Charles Van LERBERGHE\, avec tout le talent et le savoir-faire qu’on lui reconnaît dans le monde entier. \n« A ce Maître incomparable qui nous a formés dès notre plus jeune âge à Paris\, nous disons toute notre gratitude et notre enthousiasme à interpréter ce soir sa nouvelle création en compagnie de nos amis chanteurs »    Pierre et Andrée-Claude Thomas . \n\n \nCarole MONEUSE\, soprano     (pour mieux connaître Carole) \nDanaé MATUS-ECHAIZ\, alto    (pour mieux connaître Danaé) \nIvar HERVIEU\, ténor   (pour mieux connaître Ivar) \nJean-François ROUCHON\, baryton    (pour mieux connaître Jean-François) \nAu piano :\nAndrée-Claude BRAYER\,    (pour mieux connaître Andrée-Claude et Pierre) \nFrédéric ANSPACH\,   (pour mieux connaître Frédéric) \nPierre THOMAS \nJ. Brahms\, J. Massenet\, R. Boutry (création en présence du compositeur)\nhttp://lesalonbugrane.be/wp-content/uploads/2018/01/Auderghem_Roger-Boutry_Pluie-dété.mp3\nPour mieux connaître Roger Boutry \n  \n \n
URL:https://lesalonbugrane.be/event/quatuor-vocal-et-piano-a-2-4-et-6-mains/
LOCATION:Salon Bugrane\, Avenue de la Bugrane\,108\, 1020 - Brussel\, Brussel\, 1020\, Belgique
ORGANIZER;CN="Le%20Salon%20Bugrane":MAILTO:brayerandreeclaude@gmail.com
END:VEVENT
END:VCALENDAR