BEGIN:VCALENDAR
VERSION:2.0
PRODID:-//Le Salon Bugrane - ECPv4.9.5//NONSGML v1.0//EN
CALSCALE:GREGORIAN
METHOD:PUBLISH
X-WR-CALNAME:Le Salon Bugrane
X-ORIGINAL-URL:https://lesalonbugrane.be
X-WR-CALDESC:Évènements pour Le Salon Bugrane
BEGIN:VTIMEZONE
TZID:"Europe/Paris"
BEGIN:DAYLIGHT
TZOFFSETFROM:+0100
TZOFFSETTO:+0200
TZNAME:CEST
DTSTART:20260329T010000
END:DAYLIGHT
BEGIN:STANDARD
TZOFFSETFROM:+0200
TZOFFSETTO:+0100
TZNAME:CET
DTSTART:20261025T010000
END:STANDARD
END:VTIMEZONE
BEGIN:VEVENT
DTSTART;TZID="Europe/Paris":20260517T160000
DTEND;TZID="Europe/Paris":20260517T171500
DTSTAMP:20260425T141648
CREATED:20260425T111231Z
LAST-MODIFIED:20260425T112612Z
UID:5154-1779033600-1779038100@lesalonbugrane.be
SUMMARY:L'alto dévoilé : de Dvorak au tango et    aux chansons latines
DESCRIPTION: \n  \nRecital Alto-Piano \nGregory Leonti (piano) – Camille Havel (viola)\nDécouvrez l’Alto\, Instrument de l’intimité et de l’émotion\, à la voix noble et profonde\, que l’on entend rarement en récital ! \nL’excellent pianiste Grégory Leonti ( professeur au Conservatoire Royal de Bruxelles ) et son partenaire\, Camille Havel\, altiste\, (formé aux conservatoires supérieurs de Lyon et de Paris\, ainsi qu’au Mozarteum de Salzbourg)\, nous promettent un superbe moment de grâce et de virtuosité. \nCe concert s’inscrit dans notre programme « découverte » de la saison\, qui vous invite à explorer la richesse méconnue du répertoire alto-piano. Laissez-vous séduire par l’élégance de la musique romantique et la puissance expressive de ce répertoire. \n
URL:https://lesalonbugrane.be/event/lalto-devoile-de-dvorak-au-tango-et-aux-chansons-latines/
LOCATION:Salon Bugrane\, Avenue de la Bugrane\,108\, 1020 - Brussel\, Brussel\, 1020\, Belgique
CATEGORIES:Concert,Musique
ORGANIZER;CN="Le%20Salon%20Bugrane":MAILTO:brayerandreeclaude@gmail.com
END:VEVENT
END:VCALENDAR