BEGIN:VCALENDAR
VERSION:2.0
PRODID:-//Le Salon Bugrane - ECPv4.9.5//NONSGML v1.0//EN
CALSCALE:GREGORIAN
METHOD:PUBLISH
X-WR-CALNAME:Le Salon Bugrane
X-ORIGINAL-URL:http://lesalonbugrane.be
X-WR-CALDESC:Évènements pour Le Salon Bugrane
BEGIN:VTIMEZONE
TZID:"Europe/Paris"
BEGIN:DAYLIGHT
TZOFFSETFROM:+0100
TZOFFSETTO:+0200
TZNAME:CEST
DTSTART:20230326T010000
END:DAYLIGHT
BEGIN:STANDARD
TZOFFSETFROM:+0200
TZOFFSETTO:+0100
TZNAME:CET
DTSTART:20231029T010000
END:STANDARD
END:VTIMEZONE
BEGIN:VEVENT
DTSTART;TZID="Europe/Paris":20230223T183000
DTEND;TZID="Europe/Paris":20230223T201500
DTSTAMP:20260424T132332
CREATED:20230124T145731Z
LAST-MODIFIED:20230324T170840Z
UID:2311-1677177000-1677183300@lesalonbugrane.be
SUMMARY:NOH Orchestra - Création d'un orchestre à cordes
DESCRIPTION:Réservation obligatoire par e-mail : brayerandreeclaude@gmail.com \n(FR) – (NL) – (EN)\nChef d’orchestre : Andrée-Claude Brayer \n( lien vers CV) \n  \n \n  \n \nPhoto extraite de la video CRR de Cergy-Pontoise \n \nPhoto extraite de la video :  Funkable – Show You All My Love (LIVE) \n  \n  \nVous aimez l’orchestre à cordes? Vous maîtrisez bien votre instrument ( violon\, alto\, violoncelle\, contrebasse) ? \nVous appréciez les programmes variés\, allant de Vivaldi à Arvo Pärt\, en passant par des musiques de film\, des musiques du monde\, et pourquoi pas du jazz\, voire du rap ? \nVous recherchez de la convivialité\, le côté mutigénérationnel ne vous gêne pas\, vous vous sentez bien dans une ambiance détendue mais exigeante? \nVous ressentez du plaisir à accompagner un ou des solistes ( chanteur\, guitariste\, claveciniste\, pianiste\, etc…) ? \nVous saurez vous rendre disponible chaque semaine pour une répétition d’une heure trente environ? \n  \nAlors venez nous rejoindre  \nle jeudi 9 mars à 18 h 30\nmuni de votre instrument\, de votre pupitre si possible\, et de votre curiosité… \n  \nà l’adresse suivante : \n  \nRésidence Les EGLANTINES \nRue St Pierre et Paul 15 \n1120 Bruxelles \n  \nVous pourrez garer votre véhicule à proximité ( devant la porte \, sonnez et on vous ouvrira) et après avoir monté quelques mètres\, vous apercevrez l’entrée de l’Atrium où nous répéterons chaque semaine. \n  \nNotre salle de répétition est très belle\, grande\, agréable\, elle est dotée d’un piano à queue tout neuf\, d’un clavecin électronique (pour les concerts vous aurez un « vrai » clavecin!) et de conques acoustiques qui retiennent parfaitement le son en améliorant beaucoup l’acoustique de l’Atrium… \n  \nSi vous connaissez des musiciens intéressés\, merci de leur passer l’information…Merci à l’avance pour votre soutien… \n  \nA bientôt et belle semaine …! \nAndrée-Claude. \n  \nbrayerandreeclaude@gmail.com \ntel 0489 45 45 80 \n  \net voici mon c-v ( afin de vous permettre de faire ma connaissance! \n  \nAndrée-Claude Brayer\,\n  \nPianiste\, chef d’orchestre ( chevalier de l’Ordre des Arts et des Lettres )\n  \nIssue d’une famille d’artistes\, elle obtient à 16 ans un Premier Prix de piano à l’unanimité au Conservatoire National de Nancy et poursuit ses études musicales à Paris auprès d’Alain Weber (écriture\, harmonie\, contrepoint)\, Roger Boutry (direction de chœur et d’orchestre) Irène Joachim (chant) puis à la Haute Ecole de Genève en direction d’orchestre ( Arpad Gerecz)\, direction de choeur ( Michel Corboz) et orchestration ( Pierre Wissmer). \nProfesseur au Conservatoire National de Grenoble à 22 ans\,  (1° Prix de la Fondation de France pour ses activités de chef d’orchestre en région Rhône-Alpes)\, elle poursuit sa formation de chef d’orchestre auprès de Michel Mercier\, (Orchestre National d’Ile de France) et dans le domaine de la musique contemporaine  ( Magnus Lindberg\, Lorraine Vaillancourt …) \nPremière femme reçue au concours de directeur de Conservatoire National de Région\, elle dirige jusqu’en 2015 le Conservatoire à rayonnement régional de Cergy-Pontoise) (CRR de Cergy-Pontoise) et y installe  en partenariat avec l’Université de Cergy-Pontoise\, une Licence Lettres et Arts déclinée en trois parcours\, musique\, danse et théâtre. \nAvec l’Orchestre-Studio de Cergy-Pontoise\, formation de chambre à géométrie variable regroupant des professionnels de haute qualité\, elle va donner plus de 600 concerts en région parisienne\, mais également à l’étranger ( Japon\, Chine\, Vietnam\, Nouvelle-Calédonie\, Pologne\, Italie\, Belgique\, etc…) \nElle a orchestré puis dirigé\, pour petit orchestre de chambre\, « le mariage secret » de Cimarosa ( 60 représentations) et « Lo Speziale » de Haydn ( 90 représentations) \, mise en scène Anne-Marie LAZARINI\, au Théâtre Artistic Athévains à Paris ( XI° arrondissement). Elle va également  faire vivre « les Rencontres internationales de composition musicale de Cergy-Pontoise » ( 60 créations de 2000 à 2014) . \nAvec l’orchestre Symphonique du Conservatoire\, en collaboration avec la Scène Nationale de Cergy-Pontoise ( directeur Jean-Joêl Le Chapelain) seront montés une quinzaine d’opéras ( Carmen avec Frédéric Bang-Rouhet dans le rôle d’Escamillo\,  Orphée et Eurydice de Gluck avec Béatrice Massin\,  La Traviata avec Isabelle Philippe et Anne-Marie Lazzarini\, et Lucia de Lammermoor avec Isabelle Philippe et Antoine Caubet\, West Side Story sur une mise en scène de Charlie Brozzoni et sur une chorégraphie de Charles Cré-Ange\,  Cosi fan tutte\, … \, le Barbier de Séville mis en scène par Gérald Chatelain\, etc…); de grands metteurs en scène et de magnifiques chanteurs s’illustreront ainsi régulièrement au Théâtre des Louvrais de Pontoise… \nPeu après son arrivée à Bruxelles\, elle crée  l’ASBL « le Salon Bugrane »  qui propose « à domicile » une dizaine de concerts par an\, présentant de jeunes artistes talentueux et motivés… \n  \n
URL:http://lesalonbugrane.be/event/noh-orchestra-creation-dun-orchestre-a-cordes/
LOCATION:Les Eglantines Neder-Over-Heembeek\, Rue Saints Pierre et Paul 15\, Neder-Over-Heembeek\, 1120\, Belgique
END:VEVENT
END:VCALENDAR