BEGIN:VCALENDAR
VERSION:2.0
PRODID:-//Le Salon Bugrane - ECPv4.9.5//NONSGML v1.0//EN
CALSCALE:GREGORIAN
METHOD:PUBLISH
X-WR-CALNAME:Le Salon Bugrane
X-ORIGINAL-URL:http://lesalonbugrane.be
X-WR-CALDESC:Évènements pour Le Salon Bugrane
BEGIN:VTIMEZONE
TZID:"Europe/Paris"
BEGIN:DAYLIGHT
TZOFFSETFROM:+0100
TZOFFSETTO:+0200
TZNAME:CEST
DTSTART:20230326T010000
END:DAYLIGHT
BEGIN:STANDARD
TZOFFSETFROM:+0200
TZOFFSETTO:+0100
TZNAME:CET
DTSTART:20231029T010000
END:STANDARD
END:VTIMEZONE
BEGIN:VEVENT
DTSTART;TZID="Europe/Paris":20231126T160000
DTEND;TZID="Europe/Paris":20231126T171500
DTSTAMP:20260422T091716
CREATED:20231106T152510Z
LAST-MODIFIED:20231106T152510Z
UID:3316-1701014400-1701018900@lesalonbugrane.be
SUMMARY:La magie de la harpe - Virginia Pestugia
DESCRIPTION: \n  \n  \nProgramme de « la magie de la harpe »\n  \nD. Scarlatti \nSonata K208 \n___ \nE.P Alvars \nSérénade op.83 \n___ \nF. Mannino  \nTre Canzoni per Arpa op.205 \n___ \nE. W. Kune \nFantasie sur un thème de Eugene Onegin de Pyotr Ilyich Tchaikovsky \n___ \nT. Hosokawa  \nTwo Japanase Folk Songs \n___ \nF. Godefroid \nLe Carnaval de Venise \n\n\n\n  \n \nVirginia Pestugia\nNée en 1999\, elle a commencé à étudier la harpe avec Alessandra Trentin\, puis a poursuivi ses études avec Patrizia Tassini au Conservatoire “Jacopo Tomadini” d’Udine où elle a obtenu le Bachelor en Harpe (110/110 avec mention). Actuellement\, elle étudie au Conservatoire Royal de Bruxelles avec Annie Lavoisier. \nElle a été récompensée dans plus de 20 concours nationaux et internationaux\, parmi lesquels  : le premier prix au 5ème Concours International de l’Association Slovène de Harpe à Velenje\, le premier prix au XIIème Concours International de Harpe “M.Tournier” et le  premier prix au Concours International de Harpe de Corée 2022. Elle vient de remporter le deuxième Prix au Concours International de Harpe “Suoni d’Arpa” à Saluzzo.  \nVirginia a été choisie comme harpiste de l’orchestre “Kodály Zoltán World Youth Orchestra” de Debrecen (Hongrie) dans le cadre de la “Young Musicians’ Summer Academy”\, dirigée par Vásáry Tamás avec laquelle elle s’est produite en tournée en juillet 2019. \nElle a été sélectionnée\, avec 24 autres jeunes harpistes du monde entier\, pour participer au “Focus on Youth”\, concours qui a eu lieu dans le cadre du “World Harp Congress” à Cardiff en 2021. \nElle s’est perfectionnée avec Isabelle Perrin et Alexander Boldachev. Virginia s’est produite en soliste et en ensemble de chambre dans des salles importantes telles que le Teatro La Fenice (Venise\, Italie)\, au Castello Sforzesco pour RAI International (Milan\, Italie)\, à l’Harmonie-Sale (Bamberg\, Allemagne) et au Parlement Bruxellois (Bruxelles). \n
URL:http://lesalonbugrane.be/event/la-magie-de-la-harpe-virginia-pestugia/
LOCATION:Salon Bugrane\, Avenue de la Bugrane\,108\, 1020 - Brussel\, Brussel\, 1020\, Belgique
CATEGORIES:Concert
ORGANIZER;CN="Le%20Salon%20Bugrane":MAILTO:brayerandreeclaude@gmail.com
END:VEVENT
END:VCALENDAR