BEGIN:VCALENDAR
VERSION:2.0
PRODID:-//Le Salon Bugrane - ECPv4.9.5//NONSGML v1.0//EN
CALSCALE:GREGORIAN
METHOD:PUBLISH
X-WR-CALNAME:Le Salon Bugrane
X-ORIGINAL-URL:http://lesalonbugrane.be
X-WR-CALDESC:Évènements pour Le Salon Bugrane
BEGIN:VTIMEZONE
TZID:"Europe/Paris"
BEGIN:DAYLIGHT
TZOFFSETFROM:+0100
TZOFFSETTO:+0200
TZNAME:CEST
DTSTART:20200329T010000
END:DAYLIGHT
BEGIN:STANDARD
TZOFFSETFROM:+0200
TZOFFSETTO:+0100
TZNAME:CET
DTSTART:20201025T010000
END:STANDARD
END:VTIMEZONE
BEGIN:VEVENT
DTSTART;TZID="Europe/Paris":20200315T160000
DTEND;TZID="Europe/Paris":20200315T173000
DTSTAMP:20260425T171503
CREATED:20200222T171218Z
LAST-MODIFIED:20200310T112113Z
UID:1157-1584288000-1584293400@lesalonbugrane.be
SUMMARY:CONCERT ANNULE ... - Itinérances - Concert Lecture (piano et poésie)
DESCRIPTION:NEWS ( 10/03/2020 ) :  CONCERT ANNULE  – Nous vous informons que\, pour cause de sécurité sanitaire ( covid-19)\, nous avons pris la décision en concertation avec les artistes de reporter à une date ultérieure le Concert-Lecture « Itinérance ».\nNous sommes désolés de devoir supprimer un si bel évènement artistique et nous engageons à le proposer dans une période aussi proche que possible.\nNous informerons tous nos abonnés par email. Si vous désirez être informé personnellement veuillez nous contacter via l’email brayerandreeclaude@gmail.com\n  \nMusiques de Frédéric CHOPIN\, Isaac ALBENIZ\, Claude DEBUSSY\, Charles KOECHLIN\, Heitor VILLA-LOBOS\, Jacques IBERT et Federico MOMPOU\, interprétées au piano par Honoré BEJIN. \nPoèmes de Victor HUGO\, Charles BAUDELAIRE\, Antonio MACHADO\, Blaise CENDRARS\, Fernando PESSOA\, Jacques PREVERT\, Georges SCHEHADE\, Vicente GERBASI et Naty GARCIA GUADILLA lus par Naty GARCIA GUADILLA. \n  \n \n  \nPartir ; quitter la terre natale\, sa famille et ses amis…  \nErrer d’un lieu à un autre\, perpétuellement étranger peut-être : quel instinct\, quelle nécessité peuvent nous y conduire ? Est-ce pour fuir sa condition\, en quête d’un ailleurs rêvé et idéalisé ? Pour tenter de se trouver soi-même ? Ou tout cela à la fois ? \nCar – une fois passée l’exaltation du départ – l’errance\, la pérégrination constituent un apprentissage difficile ; le regret de la patrie et de l’enfance se fait parfois lancinant.  \nPourtant\, il faut s’enraciner ailleurs\, et s’efforcer de retrouver la sérénité\, de reconquérir son identité. Cette nostalgie inapaisable\, cette pérégrination sans fin\, cet appel des lointains\, ne sont-ils pas pour certains l’image même de la condition humaine ? \nDe tous temps\, les poètes ont questionné\, inlassablement\, cette quête\, cette soif que nous portons en nous. Quant aux musiciens\, ils ont su faire écho à cette préoccupation avec une justesse bouleversante. \n  \n\nNaty Garcia Guadilla :\n\nNée en Espagne\, Naty Garcia Guadilla a vécu ensuite au Vénézuela (où ses parents avaient émigré). Elle a poursuivi ses études en France (École des Hautes Études en Sciences Sociales). Docteur en sociologie\, également diplômée de l’Institut français de presse\, Naty mène depuis de nombreuses années une vie littéraire et artistique bien remplie. \n\n\n\n\nElle a écrit sur la condition des femmes en Amérique du Sud et en France\, publiant dans les années soixante-dix et au début des années quatre-vingt des articles dans différentes revues (Les Temps Modernes\, Pénélope\, Cahiers Internationaux de Sociologie) ainsi qu’un livre: Libération des Femmes: le MLF (PUF\, 1981). Elle a\, en outre\, traduit en espagnol (Taurus Ediciones\, Madrid\, 1987) l’ouvrage de Philippe Ariès L’enfant et la vie familiale sous l’Ancien Régime. \n\n\n\n\n\nElle a également publié plusieurs livres (aux éditions Le Livre d’Histoire) sur le patrimoine rural en Picardie\, région où elle habite à présent depuis de nombreuses années. \nC’est après avoir quitté Paris que Naty a pu se livrer pleinement à ses deux passions : l’écriture (poésie\, nouvelles) et la peinture. Elle est l’auteur de plusieurs recueils poétiques : Pétales du Quotidien\, Kaléidoscope de Haïkus\, ainsi qu’une anthologie poétique : Placenta. Premier Sourire. Picardie. \nElle a animé de nombreux événements culturels autour de la poésie\, donnant plusieurs conférences (dont certaines ont été publiées)\, s’impliquant également dans des activités organisées avec les écoles et les collèges. \n\n\n\n\n\nEnfin\, Naty s’adonne également à la peinture\, maniant différentes techniques (aquarelle\, pastel\, sanguine\, acrylique\, laque\, gravure…). Elle travaille par thèmes\, inspirée par l’Amérique latine\, la Picardie\, la musique… Elle a participé à de nombreuses expositions\, en France et à l’étranger ; son travail a été récompensé à plusieurs reprises (Prix du Salon International de la Société des poètes et artistes de France\, Salon d’Automne de la Société Art et littérature\, Salon International de Petit Format de la Fédération Internationale des Artistes Plasticiens de Barcelone\, Salon International des Techniques sur Papier\, etc.). \n\n\nHonoré Béjin :\nHonoré Béjin effectue ses études de piano dans l’Aisne\, puis au CRR de Paris avec Billy Eidi\, avant d’intégrer le CNSM de Paris en Piano (dans la classe d’Alain Planès)\, Écriture\, Analyse\, Accompagnement et Pédagogie. Parallèlement à ses études musicales\, il fait Hypokhâgne et Khâgne. \n\n\n\nIl est titulaire de cinq Prix du CNSM\, parmi lesquels en 2008 le Prix de Piano (accompagné du Prix spécial Olivier Messiaen). 1er Prix et lauréat de nombreux concours internationaux\, il se produit régulièrement en récital\, en France (Festival Chopin de Bagatelle\, Festival de Nohant\, Fondation Dosne-Thiers\, Tarmac de Châteauroux…) et à l’étranger (Espagne\, Allemagne\, Japon\, Autriche\, Belgique\, Pologne…). \n\n\n\nSon parcours d’interprète l’amène à côtoyer des compositeurs comme Thierry Escaich\, Tristan Murail\, Guy Sacre\, Édith Canat de Chizy. On a pu l’entendre sur France 3\, ainsi que sur France Musique et France Culture. Parallèlement à sa carrière d’interprète\, Honoré Béjin enseigne le piano au CRR de Cergy-Pontoise. \n\nIl est invité à donner des masterclass en France et à l’étranger\, notamment au Japon. \n\n  \nPROGRAMME :\nCharles BAUDELAIRE (1821-1867) : Le voyage [Les Fleurs du mal (1857)] \nBlaise CENDRARS (1887-1961) : Tu es plus belle que le ciel et la mer [Feuilles de route (1924)] \nClaude DEBUSSY (1862-1918) : Pagodes [Images\, 1re série\, n°1]  \n_________ \nNaty GARCIA GUADILLA  : Ton nom de Venezuela… \nHeitor VILLA-LOBOS (1887-1959) : A Lenda do caboclo (La Légende du métis)  \n_________ \nNaty GARCIA GUADILLA  : Saint-Quentin [Tableaux de Picardie] \nCharles KOECHLIN (1867-1950) : Nouvelle Sonatine op. 87 n°1 (1er & 3e mouvements)  \n_________ \nVicente GERBASI (1913-1992) : Mon père l’émigrant \nIsaac ALBÉNIZ (1860-1909) : Évocation [Iberia\, 1er cahier\, n°1] \n_________ \nGeorges SCHEHADÉ (1905-1989) : Ils ne savent pas [Les Poésies (2001)] \nFederico MOMPOU (1893-1987) : Jeunes Filles au jardin [Scènes d’enfants]  \n_________ \nJacques PRÉVERT (1900-1977) : Étranges étrangers [Grand Bal du Printemps (1951)] \nJacques IBERT (1890-1962) : Le vieux mendiant [Histoires]  \n_________ \nFernando PESSOA (1888-1935) : Le piano… [Pour un « cancioneiro »] \nClaude DEBUSSY (1862-1918) : Trois Images « oubliées » (n°1)  \n_________ \nVictor HUGO (1802-1885) : Exil [Les Quatre Vents de l’esprit\, 1881] \nFrédéric CHOPIN (1810-1849) : Polonaise-Fantaisie\, op. 61  \n_________ \nAntonio MACHADO (1875-1939) : Le Voyageur\, II [Solitudes (1903)] \nFederico MOMPOU (1893-1987) : Chanson et Danse n°6 \n_________ \nAntonio MACHADO (1875-1939) : Voyageur\, il n’y a pas de chemin [Campos de Castilla (1912)] \nIsaac ALBÉNIZ (1860-1909) : Fête-Dieu à Séville [Iberia\, 1er cahier\, n°3] \n_________ \n
URL:http://lesalonbugrane.be/event/itinerance-concert-lecture-piano-et-poesie/
LOCATION:Salon Bugrane\, Avenue de la Bugrane\,108\, 1020 - Brussel\, Brussel\, 1020\, Belgique
ORGANIZER;CN="Le%20Salon%20Bugrane":MAILTO:brayerandreeclaude@gmail.com
END:VEVENT
END:VCALENDAR