BEGIN:VCALENDAR
VERSION:2.0
PRODID:-//Le Salon Bugrane - ECPv4.9.5//NONSGML v1.0//EN
CALSCALE:GREGORIAN
METHOD:PUBLISH
X-WR-CALNAME:Le Salon Bugrane
X-ORIGINAL-URL:http://lesalonbugrane.be
X-WR-CALDESC:Évènements pour Le Salon Bugrane
BEGIN:VTIMEZONE
TZID:"Europe/Paris"
BEGIN:DAYLIGHT
TZOFFSETFROM:+0100
TZOFFSETTO:+0200
TZNAME:CEST
DTSTART:20230326T010000
END:DAYLIGHT
BEGIN:STANDARD
TZOFFSETFROM:+0200
TZOFFSETTO:+0100
TZNAME:CET
DTSTART:20231029T010000
END:STANDARD
END:VTIMEZONE
BEGIN:VEVENT
DTSTART;TZID="Europe/Paris":20231217T160000
DTEND;TZID="Europe/Paris":20231217T171500
DTSTAMP:20260422T104235
CREATED:20231107T104832Z
LAST-MODIFIED:20231214T173425Z
UID:3407-1702828800-1702833300@lesalonbugrane.be
SUMMARY:De klavecimbel danst - Veera Voordeckers
DESCRIPTION: \n  \n\nDe klavecimbel\n  \nDit instrument\, dat klavier en getokkelde snaren combineert\, heeft illustere componisten zoals Jean-Sébastien Bach\, François Couperin en vele anderen geïnspireerd\, die het ongeëvenaarde bekendheid hebben gegeven in Europa. \nMaar sinds het einde van de 18e eeuw is het langzaam in verval geraakt met de komst van de fortepiano en vervolgens de piano\, die het uiteindelijk heeft overtroffen met componisten als Chopin\, Beethoven\, Liszt\, Rachmaninov en vele andere immens populaire artiesten op internationale podia… \nHet klavecimbel vereist een bijzondere subtiliteit die verband houdt met zijn barokke repertoire\, een bijna filosofische reflectie op zijn technische en muzikale evolutie. Het herwint nu een steeds groeiende belangstelling\, vooral voor zijn prachtige dansen. \nOntdek het met de jonge klaveciniste Veera Voordeckers. \nProgram  – « De klavecimbel danst »\n  \nSuite samengesteld uit klavecimbelstukken van E. Jacquet de la Guerre\, (F. Couperin\,) J.S. BACH  en J.-N.-P. Royer. \nElisabeth Jacquet de La Guerre:     Suite in la mineur\, livre 1 (1687)\n\nPrélude\nAllemande\nCourante\nSarabande\nChaconne\n\nPartita nr. 4 in d major\, BWV 828 bestaande uit 7 dansen van J.S. BACH : \nI     Ouverture\nII    Allemande\nIII  Courante\nIV   Air\nV     Sarabande\nVI   Menuet\nVII  Gigue\n\n\n\nJ.-N.-P. Royer:        Allemande\, Pièces de clavecin (1746)\n\n\n\n\n\n\n
URL:http://lesalonbugrane.be/event/de-klavecimbel-danst-veera-voordeckers/
LOCATION:Salon Bugrane\, Avenue de la Bugrane\,108\, 1020 - Brussel\, Brussel\, 1020\, Belgique
CATEGORIES:Concert
ORGANIZER;CN="Le%20Salon%20Bugrane":MAILTO:brayerandreeclaude@gmail.com
END:VEVENT
END:VCALENDAR